BEGIN:VCALENDAR
VERSION:2.0
PRODID:-//SoCal Aggies - ECPv6.15.17.1//NONSGML v1.0//EN
CALSCALE:GREGORIAN
METHOD:PUBLISH
X-ORIGINAL-URL:https://socalaggies.org
X-WR-CALDESC:Events for SoCal Aggies
REFRESH-INTERVAL;VALUE=DURATION:PT1H
X-Robots-Tag:noindex
X-PUBLISHED-TTL:PT1H
BEGIN:VTIMEZONE
TZID:America/Los_Angeles
BEGIN:DAYLIGHT
TZOFFSETFROM:-0800
TZOFFSETTO:-0700
TZNAME:PDT
DTSTART:20210314T100000
END:DAYLIGHT
BEGIN:STANDARD
TZOFFSETFROM:-0700
TZOFFSETTO:-0800
TZNAME:PST
DTSTART:20211107T090000
END:STANDARD
BEGIN:DAYLIGHT
TZOFFSETFROM:-0800
TZOFFSETTO:-0700
TZNAME:PDT
DTSTART:20220313T100000
END:DAYLIGHT
BEGIN:STANDARD
TZOFFSETFROM:-0700
TZOFFSETTO:-0800
TZNAME:PST
DTSTART:20221106T090000
END:STANDARD
BEGIN:DAYLIGHT
TZOFFSETFROM:-0800
TZOFFSETTO:-0700
TZNAME:PDT
DTSTART:20230312T100000
END:DAYLIGHT
BEGIN:STANDARD
TZOFFSETFROM:-0700
TZOFFSETTO:-0800
TZNAME:PST
DTSTART:20231105T090000
END:STANDARD
END:VTIMEZONE
BEGIN:VEVENT
DTSTART;TZID=America/Los_Angeles:20220721T173000
DTEND;TZID=America/Los_Angeles:20220721T193000
DTSTAMP:20260425T112218
CREATED:20220608T052436Z
LAST-MODIFIED:20220706T222149Z
UID:1255-1658424600-1658431800@socalaggies.org
SUMMARY:L.A. Happy Hour
DESCRIPTION:Join us for the L.A. Aggie Happy Hour! This month we’re in Marina Del Rey at Brennan’s! \nPS: The famous turtle races will be happening afterwards if you want to stick around! 👀
URL:https://socalaggies.org/event/la-happy-hour-july-2022/
LOCATION:Brennan’s\, 4089 Lincoln Blvd\, Marina Del Rey\, CA\, 90292\, United States
CATEGORIES:Social
ATTACH;FMTTYPE=image/png:https://socalaggies.org/wp-content/uploads/2022/06/LA-Happy-Hour-07-2022-web.png
END:VEVENT
END:VCALENDAR