BEGIN:VCALENDAR
VERSION:2.0
PRODID:-//SoCal Aggies - ECPv6.15.17.1//NONSGML v1.0//EN
CALSCALE:GREGORIAN
METHOD:PUBLISH
X-WR-CALNAME:SoCal Aggies
X-ORIGINAL-URL:https://socalaggies.org
X-WR-CALDESC:Events for SoCal Aggies
REFRESH-INTERVAL;VALUE=DURATION:PT1H
X-Robots-Tag:noindex
X-PUBLISHED-TTL:PT1H
BEGIN:VTIMEZONE
TZID:America/Los_Angeles
BEGIN:DAYLIGHT
TZOFFSETFROM:-0800
TZOFFSETTO:-0700
TZNAME:PDT
DTSTART:20210314T100000
END:DAYLIGHT
BEGIN:STANDARD
TZOFFSETFROM:-0700
TZOFFSETTO:-0800
TZNAME:PST
DTSTART:20211107T090000
END:STANDARD
BEGIN:DAYLIGHT
TZOFFSETFROM:-0800
TZOFFSETTO:-0700
TZNAME:PDT
DTSTART:20220313T100000
END:DAYLIGHT
BEGIN:STANDARD
TZOFFSETFROM:-0700
TZOFFSETTO:-0800
TZNAME:PST
DTSTART:20221106T090000
END:STANDARD
BEGIN:DAYLIGHT
TZOFFSETFROM:-0800
TZOFFSETTO:-0700
TZNAME:PDT
DTSTART:20230312T100000
END:DAYLIGHT
BEGIN:STANDARD
TZOFFSETFROM:-0700
TZOFFSETTO:-0800
TZNAME:PST
DTSTART:20231105T090000
END:STANDARD
END:VTIMEZONE
BEGIN:VEVENT
DTSTART;TZID=America/Los_Angeles:20220903T090000
DTEND;TZID=America/Los_Angeles:20220903T120000
DTSTAMP:20260425T081112
CREATED:20220524T222530Z
LAST-MODIFIED:20220826T230342Z
UID:725-1662195600-1662206400@socalaggies.org
SUMMARY:Texas A&M v. Sam Houston State - Long Beach Game Watch
DESCRIPTION:Kickoff the 2022 Aggie Football season with SoCal Aggies! We will be returning to Panama Joe’s in Long Beach to watch the Ags BTHO sam houston state!
URL:https://socalaggies.org/event/tamu-v-sam-houston-state-long-beach-game-watch/
LOCATION:Panama Joe’s\, 5100 Second Street\, Long Beach\, CA\, 90803\, United States
CATEGORIES:Game Watch
ATTACH;FMTTYPE=image/jpeg:https://socalaggies.org/wp-content/uploads/2022/05/1280x720_20200204174855.jpeg
ORGANIZER;CN="SoCal Aggies":MAILTO:socalaggies@gmail.com
END:VEVENT
END:VCALENDAR