BEGIN:VCALENDAR
VERSION:2.0
PRODID:-//SoCal Aggies - ECPv6.15.17.1//NONSGML v1.0//EN
CALSCALE:GREGORIAN
METHOD:PUBLISH
X-WR-CALNAME:SoCal Aggies
X-ORIGINAL-URL:https://socalaggies.org
X-WR-CALDESC:Events for SoCal Aggies
REFRESH-INTERVAL;VALUE=DURATION:PT1H
X-Robots-Tag:noindex
X-PUBLISHED-TTL:PT1H
BEGIN:VTIMEZONE
TZID:America/Los_Angeles
BEGIN:DAYLIGHT
TZOFFSETFROM:-0800
TZOFFSETTO:-0700
TZNAME:PDT
DTSTART:20210314T100000
END:DAYLIGHT
BEGIN:STANDARD
TZOFFSETFROM:-0700
TZOFFSETTO:-0800
TZNAME:PST
DTSTART:20211107T090000
END:STANDARD
BEGIN:DAYLIGHT
TZOFFSETFROM:-0800
TZOFFSETTO:-0700
TZNAME:PDT
DTSTART:20220313T100000
END:DAYLIGHT
BEGIN:STANDARD
TZOFFSETFROM:-0700
TZOFFSETTO:-0800
TZNAME:PST
DTSTART:20221106T090000
END:STANDARD
BEGIN:DAYLIGHT
TZOFFSETFROM:-0800
TZOFFSETTO:-0700
TZNAME:PDT
DTSTART:20230312T100000
END:DAYLIGHT
BEGIN:STANDARD
TZOFFSETFROM:-0700
TZOFFSETTO:-0800
TZNAME:PST
DTSTART:20231105T090000
END:STANDARD
END:VTIMEZONE
BEGIN:VEVENT
DTSTART;TZID=America/Los_Angeles:20220917T170000
DTEND;TZID=America/Los_Angeles:20220917T200000
DTSTAMP:20260425T082140
CREATED:20220525T021252Z
LAST-MODIFIED:20220528T223305Z
UID:803-1663434000-1663444800@socalaggies.org
SUMMARY:Texas A&M v. Miami - Long Beach Game Watch
DESCRIPTION:
URL:https://socalaggies.org/event/texas-am-v-miami-long-beach-game-watch/
LOCATION:Panama Joe’s\, 5100 Second Street\, Long Beach\, CA\, 90803\, United States
CATEGORIES:Game Watch
ATTACH;FMTTYPE=image/png:https://socalaggies.org/wp-content/uploads/2022/05/3-miami.png
ORGANIZER;CN="SoCal Aggies":MAILTO:socalaggies@gmail.com
END:VEVENT
END:VCALENDAR