BEGIN:VCALENDAR
VERSION:2.0
PRODID:-//SoCal Aggies - ECPv6.15.17.1//NONSGML v1.0//EN
CALSCALE:GREGORIAN
METHOD:PUBLISH
X-ORIGINAL-URL:https://socalaggies.org
X-WR-CALDESC:Events for SoCal Aggies
REFRESH-INTERVAL;VALUE=DURATION:PT1H
X-Robots-Tag:noindex
X-PUBLISHED-TTL:PT1H
BEGIN:VTIMEZONE
TZID:America/Los_Angeles
BEGIN:DAYLIGHT
TZOFFSETFROM:-0800
TZOFFSETTO:-0700
TZNAME:PDT
DTSTART:20220313T100000
END:DAYLIGHT
BEGIN:STANDARD
TZOFFSETFROM:-0700
TZOFFSETTO:-0800
TZNAME:PST
DTSTART:20221106T090000
END:STANDARD
BEGIN:DAYLIGHT
TZOFFSETFROM:-0800
TZOFFSETTO:-0700
TZNAME:PDT
DTSTART:20230312T100000
END:DAYLIGHT
BEGIN:STANDARD
TZOFFSETFROM:-0700
TZOFFSETTO:-0800
TZNAME:PST
DTSTART:20231105T090000
END:STANDARD
BEGIN:DAYLIGHT
TZOFFSETFROM:-0800
TZOFFSETTO:-0700
TZNAME:PDT
DTSTART:20240310T100000
END:DAYLIGHT
BEGIN:STANDARD
TZOFFSETFROM:-0700
TZOFFSETTO:-0800
TZNAME:PST
DTSTART:20241103T090000
END:STANDARD
END:VTIMEZONE
BEGIN:VEVENT
DTSTART;TZID=America/Los_Angeles:20230413T173000
DTEND;TZID=America/Los_Angeles:20230413T190000
DTSTAMP:20260424T161525
CREATED:20230103T013136Z
LAST-MODIFIED:20230208T021548Z
UID:1455-1681407000-1681412400@socalaggies.org
SUMMARY:April L.A. Happy Hour
DESCRIPTION:Join us for an LA Aggie Happy Hour! \nThe Santa Monica Whaler \n101 Broadway\, Santa Monica\, CA 90401 \nJoin us to watch the sun set in its final location over the Pacific Ocean \n5:30pm onwards
URL:https://socalaggies.org/event/la-happy-hour-2023-04/
LOCATION:The Santa Monica Whaler\, 101 Broadway\, Santa Monica\, CA\, 90401\, United States
CATEGORIES:Social
ATTACH;FMTTYPE=image/png:https://socalaggies.org/wp-content/uploads/2023/01/LA-Happy-Hour-04-2023-web.png
END:VEVENT
END:VCALENDAR