BEGIN:VCALENDAR
VERSION:2.0
PRODID:-//SoCal Aggies - ECPv6.15.17.1//NONSGML v1.0//EN
CALSCALE:GREGORIAN
METHOD:PUBLISH
X-WR-CALNAME:SoCal Aggies
X-ORIGINAL-URL:https://socalaggies.org
X-WR-CALDESC:Events for SoCal Aggies
REFRESH-INTERVAL;VALUE=DURATION:PT1H
X-Robots-Tag:noindex
X-PUBLISHED-TTL:PT1H
BEGIN:VTIMEZONE
TZID:America/Los_Angeles
BEGIN:DAYLIGHT
TZOFFSETFROM:-0800
TZOFFSETTO:-0700
TZNAME:PDT
DTSTART:20220313T100000
END:DAYLIGHT
BEGIN:STANDARD
TZOFFSETFROM:-0700
TZOFFSETTO:-0800
TZNAME:PST
DTSTART:20221106T090000
END:STANDARD
BEGIN:DAYLIGHT
TZOFFSETFROM:-0800
TZOFFSETTO:-0700
TZNAME:PDT
DTSTART:20230312T100000
END:DAYLIGHT
BEGIN:STANDARD
TZOFFSETFROM:-0700
TZOFFSETTO:-0800
TZNAME:PST
DTSTART:20231105T090000
END:STANDARD
BEGIN:DAYLIGHT
TZOFFSETFROM:-0800
TZOFFSETTO:-0700
TZNAME:PDT
DTSTART:20240310T100000
END:DAYLIGHT
BEGIN:STANDARD
TZOFFSETFROM:-0700
TZOFFSETTO:-0800
TZNAME:PST
DTSTART:20241103T090000
END:STANDARD
END:VTIMEZONE
BEGIN:VEVENT
DTSTART;TZID=America/Los_Angeles:20230421T180000
DTEND;TZID=America/Los_Angeles:20230421T210000
DTSTAMP:20260424T161444
CREATED:20220528T223135Z
LAST-MODIFIED:20230414T163010Z
UID:988-1682100000-1682110800@socalaggies.org
SUMMARY:2023 SoCal Aggies Muster
DESCRIPTION:SoCal Aggies will be hosting their annual Muster ceremony on Friday\, April 21st\, 2023 at 6pm. \nTickets are no longer available for sale online. If you would like to attend\, please contact us.
URL:https://socalaggies.org/event/2023-muster/
LOCATION:Quiet Cannon\, 901 Via San Clemente\, Montebello\, CA\, 90640\, United States
CATEGORIES:Muster
ATTACH;FMTTYPE=image/jpeg:https://socalaggies.org/wp-content/uploads/2022/05/muster_candle.jpeg
ORGANIZER;CN="SoCal Aggies":MAILTO:socalaggies@gmail.com
END:VEVENT
END:VCALENDAR