BEGIN:VCALENDAR
VERSION:2.0
PRODID:-//SoCal Aggies - ECPv6.15.17.1//NONSGML v1.0//EN
CALSCALE:GREGORIAN
METHOD:PUBLISH
X-WR-CALNAME:SoCal Aggies
X-ORIGINAL-URL:https://socalaggies.org
X-WR-CALDESC:Events for SoCal Aggies
REFRESH-INTERVAL;VALUE=DURATION:PT1H
X-Robots-Tag:noindex
X-PUBLISHED-TTL:PT1H
BEGIN:VTIMEZONE
TZID:America/Los_Angeles
BEGIN:DAYLIGHT
TZOFFSETFROM:-0800
TZOFFSETTO:-0700
TZNAME:PDT
DTSTART:20220313T100000
END:DAYLIGHT
BEGIN:STANDARD
TZOFFSETFROM:-0700
TZOFFSETTO:-0800
TZNAME:PST
DTSTART:20221106T090000
END:STANDARD
BEGIN:DAYLIGHT
TZOFFSETFROM:-0800
TZOFFSETTO:-0700
TZNAME:PDT
DTSTART:20230312T100000
END:DAYLIGHT
BEGIN:STANDARD
TZOFFSETFROM:-0700
TZOFFSETTO:-0800
TZNAME:PST
DTSTART:20231105T090000
END:STANDARD
BEGIN:DAYLIGHT
TZOFFSETFROM:-0800
TZOFFSETTO:-0700
TZNAME:PDT
DTSTART:20240310T100000
END:DAYLIGHT
BEGIN:STANDARD
TZOFFSETFROM:-0700
TZOFFSETTO:-0800
TZNAME:PST
DTSTART:20241103T090000
END:STANDARD
END:VTIMEZONE
BEGIN:VEVENT
DTSTART;TZID=America/Los_Angeles:20230810T173000
DTEND;TZID=America/Los_Angeles:20230810T193000
DTSTAMP:20260424T103215
CREATED:20230120T221831Z
LAST-MODIFIED:20230807T171414Z
UID:1480-1691688600-1691695800@socalaggies.org
SUMMARY:August L.A. Happy Hour
DESCRIPTION:Join us for the final Aggie Happy Hour of the summer! This month we will be at The Prince\, an iconic bar in Koreatown that’s been a neighborhood watering hole since the 1940s\, a complement the Ambassador Hotel that stood across the street. \nThere is a good chance you’ve been inside The Prince\, even if you’ve never heard of it: its vintage decor have made it a popular filming location for movies and shows such as Chinatown and Mad Men\, as well as serving as “The Griffin\,” the setting for the show New Girl. \nIf anyone is interested in getting some Korean barbecue while in the neighborhood\, we will likely head over to one of the places within walking distance at around 7:30. \n  \nThe Prince \n3198 ½ W Seventh St\, Los Angeles\, CA 90005 \n5:30–7:30pm
URL:https://socalaggies.org/event/la-happy-hour-2023-08/
LOCATION:The Prince\, 3198 ½ W Seventh St\, Los Angeles\, CA\, 90005\, United States
CATEGORIES:Social
ATTACH;FMTTYPE=image/png:https://socalaggies.org/wp-content/uploads/2023/01/LA-Happy-Hour-08-2023-web.png
END:VEVENT
END:VCALENDAR