BEGIN:VCALENDAR
VERSION:2.0
PRODID:-//SoCal Aggies - ECPv6.15.17.1//NONSGML v1.0//EN
CALSCALE:GREGORIAN
METHOD:PUBLISH
X-ORIGINAL-URL:https://socalaggies.org
X-WR-CALDESC:Events for SoCal Aggies
REFRESH-INTERVAL;VALUE=DURATION:PT1H
X-Robots-Tag:noindex
X-PUBLISHED-TTL:PT1H
BEGIN:VTIMEZONE
TZID:America/Los_Angeles
BEGIN:DAYLIGHT
TZOFFSETFROM:-0800
TZOFFSETTO:-0700
TZNAME:PDT
DTSTART:20230312T100000
END:DAYLIGHT
BEGIN:STANDARD
TZOFFSETFROM:-0700
TZOFFSETTO:-0800
TZNAME:PST
DTSTART:20231105T090000
END:STANDARD
BEGIN:DAYLIGHT
TZOFFSETFROM:-0800
TZOFFSETTO:-0700
TZNAME:PDT
DTSTART:20240310T100000
END:DAYLIGHT
BEGIN:STANDARD
TZOFFSETFROM:-0700
TZOFFSETTO:-0800
TZNAME:PST
DTSTART:20241103T090000
END:STANDARD
BEGIN:DAYLIGHT
TZOFFSETFROM:-0800
TZOFFSETTO:-0700
TZNAME:PDT
DTSTART:20250309T100000
END:DAYLIGHT
BEGIN:STANDARD
TZOFFSETFROM:-0700
TZOFFSETTO:-0800
TZNAME:PST
DTSTART:20251102T090000
END:STANDARD
BEGIN:DAYLIGHT
TZOFFSETFROM:-0800
TZOFFSETTO:-0700
TZNAME:PDT
DTSTART:20260308T100000
END:DAYLIGHT
BEGIN:STANDARD
TZOFFSETFROM:-0700
TZOFFSETTO:-0800
TZNAME:PST
DTSTART:20261101T090000
END:STANDARD
BEGIN:DAYLIGHT
TZOFFSETFROM:-0800
TZOFFSETTO:-0700
TZNAME:PDT
DTSTART:20270314T100000
END:DAYLIGHT
BEGIN:STANDARD
TZOFFSETFROM:-0700
TZOFFSETTO:-0800
TZNAME:PST
DTSTART:20271107T090000
END:STANDARD
END:VTIMEZONE
BEGIN:VEVENT
DTSTART;TZID=America/Los_Angeles:20241130T163000
DTEND;TZID=America/Los_Angeles:20241130T163000
DTSTAMP:20260419T162011
CREATED:20240827T202745Z
LAST-MODIFIED:20241126T220709Z
UID:1820-1732984200-1732984200@socalaggies.org
SUMMARY:Texas A&M v. texas – Long Beach Game Watch
DESCRIPTION:Texas A&M v. texas – Long Beach Game Watch
URL:https://socalaggies.org/event/2024-week-14/
LOCATION:Panama Joe’s\, 5100 Second Street\, Long Beach\, CA\, 90803\, United States
CATEGORIES:Game Watch
ATTACH;FMTTYPE=image/png:https://socalaggies.org/wp-content/uploads/2024/08/Matchup_14_Texas.png
ORGANIZER;CN="SoCal Aggies":MAILTO:socalaggies@gmail.com
END:VEVENT
BEGIN:VEVENT
DTSTART;TZID=America/Los_Angeles:20250421T170000
DTEND;TZID=America/Los_Angeles:20250421T203000
DTSTAMP:20260419T162011
CREATED:20250223T215247Z
LAST-MODIFIED:20250223T215247Z
UID:1861-1745254800-1745267400@socalaggies.org
SUMMARY:2025 Aggie Muster
DESCRIPTION:SoCal Aggies will convene for our 2025 Aggie Muster ceremony on Monday\, April 21st\, 2025 at 5pm. \nLocation: \nSheraton Cerritos\n12725 Center Court Drive\nCerritos\, CA 90703 \nWe are honored to announce that our 2025 Muster Speaker will be Chris Wadden ’81. Chris is an entrepreneur\, executive\, consultant\, investor\, and educator. He is President of Veraison LLC\, which provides strategic\, marketing and operating advice to small and medium sized companies along with assistance with debt\, equity\, and non-bank financing. His thirty-year career focused on the development of consumer brands both within the US and abroad. \nChris is the chairman emeritus of the Pasadena Angels\, an organization that invests and mentors early-stage companies. He is an adjunct professor at local universities and specializes in teaching courses in Marketing\, Change Management\, Business Planning\, Entrepreneurship and Finance. He has also been a keynote speaker and panelist at conferences that focus on entrepreneurship and doing business in China. \nCocktail hour begins on the patio at 5pm\, followed by the ceremony and dinner at 6pm. \n\n\n\n\n\n\n\n\n\n\n\nClick Here for Tickets and Packages
URL:https://socalaggies.org/event/2025-aggie-muster/
LOCATION:Sheraton Cerritos\, 12725 Center Court Drive\, Cerritos\, CA\, 90703\, United States
CATEGORIES:Muster
ATTACH;FMTTYPE=image/jpeg:https://socalaggies.org/wp-content/uploads/2022/05/muster_candle.jpeg
ORGANIZER;CN="SoCal Aggies":MAILTO:socalaggies@gmail.com
END:VEVENT
BEGIN:VEVENT
DTSTART;TZID=America/Los_Angeles:20250607T130000
DTEND;TZID=America/Los_Angeles:20250607T183000
DTSTAMP:20260419T162011
CREATED:20250223T215907Z
LAST-MODIFIED:20250508T031551Z
UID:1864-1749301200-1749321000@socalaggies.org
SUMMARY:Annual Crawfish Boil & Blue Bell Distribution
DESCRIPTION:Don’t miss the Annual SoCal Aggies Crawfish Boil!\n⠀\nDate: Saturday\, June 7th\nTime: 1pm to early evening\nLocation: South Pasadena — address to be provided upon ticket purchase.\n⠀\nTickets are available now until May 23rd:\nCLICK HERE FOR TICKETS\n⠀\n\nEach person will receive 2-3 pounds of crawfish\, shrimp\, sausage\, corn and potatoes. Drinks and Blue Bell ice cream will also be provided. Feel free to bring anything else you want— grills\, charcoal\, and a limited amount of meat will be provided for those that do not eat seafood. People are also welcome to bring other foods that they want to throw on the grill. \nThis is a family-friendly event and there is a park and playground across the street for those with kids. Some things we can always use more of: \n\nFolding chairs\nCanopies\nDesserts\nSides/Chips/Dips\nBeer\nAdditional yard games and dominoes\nCoolers\n\nOur hosts have dogs and have requested no additional dogs be brought to the event. \nThis will also be Blue Bell Ice Cream pickup day! Blue Bell Ice Cream will be distributed to those who order it whether or not you stay for the boil. There are not multiple locations/dates: Pickup will occur on this day only! \nIf you are unable to pickup on this day\, we encourage you to use our Facebook Group to find other Aggies in your area that may be attending. \nPlace your orders NOW until May 23rd! \nCLICK HERE TO ORDER
URL:https://socalaggies.org/event/annual-crawfish-boil-blue-bell-distribution-2025/
CATEGORIES:Social
ATTACH;FMTTYPE=image/png:https://socalaggies.org/wp-content/uploads/2022/05/2022-Crawfish-Boil-e1653777510522.png
ORGANIZER;CN="SoCal Aggies":MAILTO:socalaggies@gmail.com
END:VEVENT
BEGIN:VEVENT
DTSTART;TZID=America/Los_Angeles:20260421T170000
DTEND;TZID=America/Los_Angeles:20260421T200000
DTSTAMP:20260419T162011
CREATED:20260226T174656Z
LAST-MODIFIED:20260327T000108Z
UID:1880-1776790800-1776801600@socalaggies.org
SUMMARY:2026 Southern California Texas Aggie Club Muster
DESCRIPTION:2026 Southern California Texas A&M Club Muster\nTuesday\, April 21\, 2026\, 5:00 PM \nLocation\nOld Ranch Country Club\n3901 Lampson Avenue\nSeal Beach\, CA 90740 \nCost\n$80 \nContact Information\nRick Brown ’91\n818-726-7324\nnwlaaggie@gmail.com \nMuster speaker will be Major General Todd Erskine ’96. Erskine now serves as the commanding general of the 79th Theater Sustainment Command headquartered in Los Alamitos\, CA\, one of the Army Reserve’s largest and most strategically vital logistics organizations\, according to a press release. \nHosted by Old Ranch Country Club in Seal Beach\, CA. \nTickets are $80 before April 1\, 2026\, then $90 after. Also\, table purchases/donations are available for $500 – 2 dinner and 2 drink tickets and recognition on Muster program\, $1\,000 – 2 dinner and 2 drink tickets and larger recognition on Muster program. \nSquare: \nhttps://checkout.square.site/merchant/MLDMMPGA1DKDS/checkout/KS72H3PVU63QAPE2VBDQ3MWY \nZelle: \nPlease direct payments to (714)401-0675\, Attn: Southern California Aggie Club \nPayPal: \nhttps://www.paypal.com/ncp/payment/RFFFBCKFVU6Y8
URL:https://socalaggies.org/event/2026-southern-california-texas-aggie-club-muster/
LOCATION:Old Ranch Country Club\, 3901 Lampson Avenue\, Seal Beach\, CA\, 90740\, United States
CATEGORIES:Muster
END:VEVENT
END:VCALENDAR