BEGIN:VCALENDAR
VERSION:2.0
PRODID:-//SoCal Aggies - ECPv6.15.17.1//NONSGML v1.0//EN
CALSCALE:GREGORIAN
METHOD:PUBLISH
X-WR-CALNAME:SoCal Aggies
X-ORIGINAL-URL:https://socalaggies.org
X-WR-CALDESC:Events for SoCal Aggies
REFRESH-INTERVAL;VALUE=DURATION:PT1H
X-Robots-Tag:noindex
X-PUBLISHED-TTL:PT1H
BEGIN:VTIMEZONE
TZID:America/Los_Angeles
BEGIN:DAYLIGHT
TZOFFSETFROM:-0800
TZOFFSETTO:-0700
TZNAME:PDT
DTSTART:20210314T100000
END:DAYLIGHT
BEGIN:STANDARD
TZOFFSETFROM:-0700
TZOFFSETTO:-0800
TZNAME:PST
DTSTART:20211107T090000
END:STANDARD
BEGIN:DAYLIGHT
TZOFFSETFROM:-0800
TZOFFSETTO:-0700
TZNAME:PDT
DTSTART:20220313T100000
END:DAYLIGHT
BEGIN:STANDARD
TZOFFSETFROM:-0700
TZOFFSETTO:-0800
TZNAME:PST
DTSTART:20221106T090000
END:STANDARD
BEGIN:DAYLIGHT
TZOFFSETFROM:-0800
TZOFFSETTO:-0700
TZNAME:PDT
DTSTART:20230312T100000
END:DAYLIGHT
BEGIN:STANDARD
TZOFFSETFROM:-0700
TZOFFSETTO:-0800
TZNAME:PST
DTSTART:20231105T090000
END:STANDARD
END:VTIMEZONE
BEGIN:VEVENT
DTSTART;TZID=America/Los_Angeles:20220811T173000
DTEND;TZID=America/Los_Angeles:20220811T193000
DTSTAMP:20260425T082141
CREATED:20220608T052655Z
LAST-MODIFIED:20220805T215928Z
UID:1262-1660239000-1660246200@socalaggies.org
SUMMARY:O.C. Happy Hour
DESCRIPTION:Join us for the Orange County Aggie Happy Hour! This month we’re in Tustin at Tustin Brewing Company. \nSee you there!
URL:https://socalaggies.org/event/oc-happy-hour-august-2022/
LOCATION:Tustin Brewing Company\, 13011 Newport Ave\, Tustin\, CA\, 92780\, United States
CATEGORIES:Social
ATTACH;FMTTYPE=image/png:https://socalaggies.org/wp-content/uploads/2022/06/OC-Happy-Hour-08-2022-web.png
END:VEVENT
BEGIN:VEVENT
DTSTART;TZID=America/Los_Angeles:20220818T173000
DTEND;TZID=America/Los_Angeles:20220818T190000
DTSTAMP:20260425T082141
CREATED:20220608T052527Z
LAST-MODIFIED:20220805T215940Z
UID:1258-1660843800-1660849200@socalaggies.org
SUMMARY:L.A. Happy Hour
DESCRIPTION:The Los Angeles Aggie Happy Hour will be in Koreatown this month! \nAfterwards\, we will be getting some Korean food in the neighborhood for those interested. There is a small parking lot at Southland Beer\, but if you run into trouble\, there is some street parking in the neighborhood behind it and in the parking structure between The Wiltern and Ralph’s. There is not a show at The Wiltern that evening so garage prices should be low. \nSee you there!
URL:https://socalaggies.org/event/la-happy-hour-august-2022/
LOCATION:Southland Beer\, 740 S Western Ave\, Los Angeles\, CA\, 90005\, United States
CATEGORIES:Social
ATTACH;FMTTYPE=image/png:https://socalaggies.org/wp-content/uploads/2022/06/LA-Happy-Hour-08-2022-web.png
END:VEVENT
BEGIN:VEVENT
DTSTART;TZID=America/Los_Angeles:20220827T100000
DTEND;TZID=America/Los_Angeles:20220827T210000
DTSTAMP:20260425T082141
CREATED:20220528T224623Z
LAST-MODIFIED:20220818T004310Z
UID:995-1661594400-1661634000@socalaggies.org
SUMMARY:Beach Bonfire
DESCRIPTION:After a multi-year hiatus\, the annual SoCal Aggies Beach Bonfire finally returns on Saturday\, August 27th! \nWe will setup at 10am so feel free to join us anytime after 10am! \nWHAT TO BRING:\nThe club will be grilling up hamburgers and hotdogs\, but bringing drinks\, side dishes\, and desserts is much appreciated! Beach games\, footballs\, canopies\, chairs\, coolers\, etc. are always helpful too!\n\nPlease note that California State Beaches do not allow alcohol.\n\n\nHOW TO FIND US:\nWe will be on the south side of Huntington Beach\, about 6 miles south of Bolsa Chica Beach\, near Lifeguard Tower 2 at the “Brookhurst Berm Ramadas.”  You will enter the State Park off of the Brookhurst St. entrance on PCH.\n\nParking is will be $20 per vehicle and carpooling is encouraged!\n\n\nGOOGLE MAPS
URL:https://socalaggies.org/event/2022-beach-bonfire/
LOCATION:Huntington Beach – Brookhurst Berm Ramadas\, CA\, United States
CATEGORIES:Social
ATTACH;FMTTYPE=image/png:https://socalaggies.org/wp-content/uploads/2022/05/2022-Beach-Bonfire-web.png
ORGANIZER;CN="SoCal Aggies":MAILTO:socalaggies@gmail.com
END:VEVENT
END:VCALENDAR