BEGIN:VCALENDAR
VERSION:2.0
PRODID:-//SoCal Aggies - ECPv6.15.17.1//NONSGML v1.0//EN
CALSCALE:GREGORIAN
METHOD:PUBLISH
X-ORIGINAL-URL:https://socalaggies.org
X-WR-CALDESC:Events for SoCal Aggies
REFRESH-INTERVAL;VALUE=DURATION:PT1H
X-Robots-Tag:noindex
X-PUBLISHED-TTL:PT1H
BEGIN:VTIMEZONE
TZID:America/Los_Angeles
BEGIN:DAYLIGHT
TZOFFSETFROM:-0800
TZOFFSETTO:-0700
TZNAME:PDT
DTSTART:20220313T100000
END:DAYLIGHT
BEGIN:STANDARD
TZOFFSETFROM:-0700
TZOFFSETTO:-0800
TZNAME:PST
DTSTART:20221106T090000
END:STANDARD
BEGIN:DAYLIGHT
TZOFFSETFROM:-0800
TZOFFSETTO:-0700
TZNAME:PDT
DTSTART:20230312T100000
END:DAYLIGHT
BEGIN:STANDARD
TZOFFSETFROM:-0700
TZOFFSETTO:-0800
TZNAME:PST
DTSTART:20231105T090000
END:STANDARD
BEGIN:DAYLIGHT
TZOFFSETFROM:-0800
TZOFFSETTO:-0700
TZNAME:PDT
DTSTART:20240310T100000
END:DAYLIGHT
BEGIN:STANDARD
TZOFFSETFROM:-0700
TZOFFSETTO:-0800
TZNAME:PST
DTSTART:20241103T090000
END:STANDARD
END:VTIMEZONE
BEGIN:VEVENT
DTSTART;TZID=America/Los_Angeles:20230209T173000
DTEND;TZID=America/Los_Angeles:20230209T190000
DTSTAMP:20260424T174731
CREATED:20230103T012910Z
LAST-MODIFIED:20230206T215929Z
UID:1450-1675963800-1675969200@socalaggies.org
SUMMARY:February L.A. Happy Hour
DESCRIPTION:Join us for the first LA Aggie Happy Hour of the year! \nPat’s Cocktail Lounge\n12121 Riverside Dr North Hollywood\, CA 91607\nFeatured on Bar Rescue Season 3 Episode 35 \n5:30pm onwards \nYou can order BBQ from Aggie-run AJ’s Tex-Mex BBQ next door!
URL:https://socalaggies.org/event/la-happy-hour-2023-02/
LOCATION:Pat’s Cocktail Lounge\, 12121 Riverside Dr\, North Hollywood\, CA\, 91607\, United States
CATEGORIES:Social
ATTACH;FMTTYPE=image/png:https://socalaggies.org/wp-content/uploads/2023/01/LA-Happy-Hour-02-2023-web.png
END:VEVENT
END:VCALENDAR