BEGIN:VCALENDAR
VERSION:2.0
PRODID:-//SoCal Aggies - ECPv6.15.17.1//NONSGML v1.0//EN
CALSCALE:GREGORIAN
METHOD:PUBLISH
X-WR-CALNAME:SoCal Aggies
X-ORIGINAL-URL:https://socalaggies.org
X-WR-CALDESC:Events for SoCal Aggies
REFRESH-INTERVAL;VALUE=DURATION:PT1H
X-Robots-Tag:noindex
X-PUBLISHED-TTL:PT1H
BEGIN:VTIMEZONE
TZID:America/Los_Angeles
BEGIN:DAYLIGHT
TZOFFSETFROM:-0800
TZOFFSETTO:-0700
TZNAME:PDT
DTSTART:20220313T100000
END:DAYLIGHT
BEGIN:STANDARD
TZOFFSETFROM:-0700
TZOFFSETTO:-0800
TZNAME:PST
DTSTART:20221106T090000
END:STANDARD
BEGIN:DAYLIGHT
TZOFFSETFROM:-0800
TZOFFSETTO:-0700
TZNAME:PDT
DTSTART:20230312T100000
END:DAYLIGHT
BEGIN:STANDARD
TZOFFSETFROM:-0700
TZOFFSETTO:-0800
TZNAME:PST
DTSTART:20231105T090000
END:STANDARD
BEGIN:DAYLIGHT
TZOFFSETFROM:-0800
TZOFFSETTO:-0700
TZNAME:PDT
DTSTART:20240310T100000
END:DAYLIGHT
BEGIN:STANDARD
TZOFFSETFROM:-0700
TZOFFSETTO:-0800
TZNAME:PST
DTSTART:20241103T090000
END:STANDARD
END:VTIMEZONE
BEGIN:VEVENT
DTSTART;TZID=America/Los_Angeles:20230603T140000
DTEND;TZID=America/Los_Angeles:20230603T190000
DTSTAMP:20260424T115152
CREATED:20230120T222504Z
LAST-MODIFIED:20230521T152804Z
UID:1482-1685800800-1685818800@socalaggies.org
SUMMARY:Annual Crawfish Boil & Blue Bell Distribution
DESCRIPTION:Don’t miss the Annual SoCal Aggies Crawfish Boil!\n⠀\nDate: Saturday June 3rd\nTime: 2pm to evening\nLocation: Thomas’ house: 1010 N Raymond Avenue\, Pasadena CA 91103\nStreet parking is free\n⠀\nTickets for this event are no longer available.\n⠀\n\nEach person will receive 2-3 pounds of crawfish\, shrimp\, sausage\, corn and potatoes. Drinks and ice cream will also be provided. \nAs many may remember\, we have run into last-minute issues sourcing crawfish in the past (flight delays\, etc.) but we strongly believe we will be able to get the crawfish this year. \nFeel free to bring anything else you want— grills and charcoal will be provided for anyone that does not eat seafood and wants to bring something to grill. \nThis is a family-friendly event! A swimming pool will be available for use as well as yard games for kids to play and there will be fresh apples available to pick off an apple tree. \nSome things we can always use more of: \n\nDesserts\nSides/Chips/Dips\nBeer (we are working on Texas liquor donations)\nAdditional yard games and dominoes\nCoolers\nCanopies\n\nIt is also Blue Bell Ice Cream pickup day! Blue Bell Ice Cream will be distributed to those who order it whether or not you stay for the boil. There are not multiple locations for pick up this year: Pickup will occur in Pasadena on this day only! \nIf you are unable to pickup on this day\, we encourage you to use our Facebook Group to find other Aggies in your area that may be attending.
URL:https://socalaggies.org/event/2023-crawfish-blue-bell/
LOCATION:CA
CATEGORIES:Social
ATTACH;FMTTYPE=image/png:https://socalaggies.org/wp-content/uploads/2022/05/2022-Crawfish-Boil-e1653777510522.png
ORGANIZER;CN="SoCal Aggies":MAILTO:socalaggies@gmail.com
END:VEVENT
BEGIN:VEVENT
DTSTART;TZID=America/Los_Angeles:20230608T173000
DTEND;TZID=America/Los_Angeles:20230608T190000
DTSTAMP:20260424T115152
CREATED:20230120T220806Z
LAST-MODIFIED:20230208T022127Z
UID:1475-1686245400-1686250800@socalaggies.org
SUMMARY:June L.A. Happy Hour
DESCRIPTION:Join us in the Arts District for an LA Aggie Happy Hour! \nTruly Los Angeles (at Angel City Brewery) \n216 S Alameda Street\, Los Angeles\, CA 90012 \n5:30pm onwards
URL:https://socalaggies.org/event/la-happy-hour-2023-06/
LOCATION:Truly Los Angeles\, 216 Alameda Street\, Los Angeles\, 90012
CATEGORIES:Social
ATTACH;FMTTYPE=image/png:https://socalaggies.org/wp-content/uploads/2023/01/LA-Happy-Hour-06-2023-web.png
END:VEVENT
END:VCALENDAR