BEGIN:VCALENDAR
VERSION:2.0
PRODID:-//SoCal Aggies - ECPv6.15.17.1//NONSGML v1.0//EN
CALSCALE:GREGORIAN
METHOD:PUBLISH
X-WR-CALNAME:SoCal Aggies
X-ORIGINAL-URL:https://socalaggies.org
X-WR-CALDESC:Events for SoCal Aggies
REFRESH-INTERVAL;VALUE=DURATION:PT1H
X-Robots-Tag:noindex
X-PUBLISHED-TTL:PT1H
BEGIN:VTIMEZONE
TZID:America/Los_Angeles
BEGIN:DAYLIGHT
TZOFFSETFROM:-0800
TZOFFSETTO:-0700
TZNAME:PDT
DTSTART:20220313T100000
END:DAYLIGHT
BEGIN:STANDARD
TZOFFSETFROM:-0700
TZOFFSETTO:-0800
TZNAME:PST
DTSTART:20221106T090000
END:STANDARD
BEGIN:DAYLIGHT
TZOFFSETFROM:-0800
TZOFFSETTO:-0700
TZNAME:PDT
DTSTART:20230312T100000
END:DAYLIGHT
BEGIN:STANDARD
TZOFFSETFROM:-0700
TZOFFSETTO:-0800
TZNAME:PST
DTSTART:20231105T090000
END:STANDARD
BEGIN:DAYLIGHT
TZOFFSETFROM:-0800
TZOFFSETTO:-0700
TZNAME:PDT
DTSTART:20240310T100000
END:DAYLIGHT
BEGIN:STANDARD
TZOFFSETFROM:-0700
TZOFFSETTO:-0800
TZNAME:PST
DTSTART:20241103T090000
END:STANDARD
END:VTIMEZONE
BEGIN:VEVENT
DTSTART;TZID=America/Los_Angeles:20230713T173000
DTEND;TZID=America/Los_Angeles:20230713T190000
DTSTAMP:20260424T103215
CREATED:20230120T221706Z
LAST-MODIFIED:20230208T021628Z
UID:1478-1689269400-1689274800@socalaggies.org
SUMMARY:July L.A. Happy Hour
DESCRIPTION:The July LA Happy Hour will be at The Proud Bird! Join us on the patio the numerous food options available from the Food Bazaar. \nThe Proud Bird – 11022 Aviation Blvd\, Los Angeles\, CA 90045 \n5:30pm onwards
URL:https://socalaggies.org/event/la-happy-hour-2023-07/
LOCATION:The Proud Bird\, 11022 Aviation Blvd\, Los Angeles\, CA\, 90045\, United States
CATEGORIES:Social
ATTACH;FMTTYPE=image/png:https://socalaggies.org/wp-content/uploads/2023/01/LA-Happy-Hour-07-2023-web.png
END:VEVENT
END:VCALENDAR