BEGIN:VCALENDAR
VERSION:2.0
PRODID:-//SoCal Aggies - ECPv6.15.17.1//NONSGML v1.0//EN
CALSCALE:GREGORIAN
METHOD:PUBLISH
X-ORIGINAL-URL:https://socalaggies.org
X-WR-CALDESC:Events for SoCal Aggies
REFRESH-INTERVAL;VALUE=DURATION:PT1H
X-Robots-Tag:noindex
X-PUBLISHED-TTL:PT1H
BEGIN:VTIMEZONE
TZID:America/Los_Angeles
BEGIN:DAYLIGHT
TZOFFSETFROM:-0800
TZOFFSETTO:-0700
TZNAME:PDT
DTSTART:20220313T100000
END:DAYLIGHT
BEGIN:STANDARD
TZOFFSETFROM:-0700
TZOFFSETTO:-0800
TZNAME:PST
DTSTART:20221106T090000
END:STANDARD
BEGIN:DAYLIGHT
TZOFFSETFROM:-0800
TZOFFSETTO:-0700
TZNAME:PDT
DTSTART:20230312T100000
END:DAYLIGHT
BEGIN:STANDARD
TZOFFSETFROM:-0700
TZOFFSETTO:-0800
TZNAME:PST
DTSTART:20231105T090000
END:STANDARD
BEGIN:DAYLIGHT
TZOFFSETFROM:-0800
TZOFFSETTO:-0700
TZNAME:PDT
DTSTART:20240310T100000
END:DAYLIGHT
BEGIN:STANDARD
TZOFFSETFROM:-0700
TZOFFSETTO:-0800
TZNAME:PST
DTSTART:20241103T090000
END:STANDARD
END:VTIMEZONE
BEGIN:VEVENT
DTSTART;VALUE=DATE:20231104
DTEND;VALUE=DATE:20231106
DTSTAMP:20260424T041650
CREATED:20230829T010540Z
LAST-MODIFIED:20230829T021023Z
UID:1654-1699063200-1699149599@socalaggies.org
SUMMARY:Texas A&M v. Ole Miss – Long Beach Game Watch
DESCRIPTION:Texas A&M v. Ole Miss – Long Beach Game Watch
URL:https://socalaggies.org/event/2023-football-week-10/
LOCATION:Panama Joe’s\, 5100 Second Street\, Long Beach\, CA\, 90803\, United States
CATEGORIES:Game Watch
ATTACH;FMTTYPE=image/png:https://socalaggies.org/wp-content/uploads/2023/08/Matchup_Ole-Miss.png
ORGANIZER;CN="SoCal Aggies":MAILTO:socalaggies@gmail.com
END:VEVENT
BEGIN:VEVENT
DTSTART;VALUE=DATE:20231111
DTEND;VALUE=DATE:20231113
DTSTAMP:20260424T041650
CREATED:20230829T010619Z
LAST-MODIFIED:20230829T021029Z
UID:1656-1699668000-1699754399@socalaggies.org
SUMMARY:Texas A&M v. Miss State – Long Beach Game Watch
DESCRIPTION:Texas A&M v. Miss State – Long Beach Game Watch
URL:https://socalaggies.org/event/2023-football-week-11/
LOCATION:Panama Joe’s\, 5100 Second Street\, Long Beach\, CA\, 90803\, United States
CATEGORIES:Game Watch
ATTACH;FMTTYPE=image/png:https://socalaggies.org/wp-content/uploads/2023/08/Matchup_Miss-State.png
ORGANIZER;CN="SoCal Aggies":MAILTO:socalaggies@gmail.com
END:VEVENT
BEGIN:VEVENT
DTSTART;TZID=America/Los_Angeles:20231118T090000
DTEND;TZID=America/Los_Angeles:20231118T120000
DTSTAMP:20260424T041650
CREATED:20230829T010707Z
LAST-MODIFIED:20230921T222636Z
UID:1658-1700298000-1700308800@socalaggies.org
SUMMARY:Texas A&M v. Abilene Christian – Long Beach Game Watch
DESCRIPTION:Texas A&M v. Abilene Christian – Long Beach Game Watch
URL:https://socalaggies.org/event/2023-football-week-12/
LOCATION:Panama Joe’s\, 5100 Second Street\, Long Beach\, CA\, 90803\, United States
CATEGORIES:Game Watch
ATTACH;FMTTYPE=image/png:https://socalaggies.org/wp-content/uploads/2023/08/Matchup_ACU.png
ORGANIZER;CN="SoCal Aggies":MAILTO:socalaggies@gmail.com
END:VEVENT
BEGIN:VEVENT
DTSTART;VALUE=DATE:20231125
DTEND;VALUE=DATE:20231127
DTSTAMP:20260424T041650
CREATED:20230829T010742Z
LAST-MODIFIED:20230829T021045Z
UID:1660-1700877600-1700963999@socalaggies.org
SUMMARY:Texas A&M v. LSU – Long Beach Game Watch
DESCRIPTION:Texas A&M v. LSU – Long Beach Game Watch
URL:https://socalaggies.org/event/2023-football-week-13/
LOCATION:Panama Joe’s\, 5100 Second Street\, Long Beach\, CA\, 90803\, United States
CATEGORIES:Game Watch
ATTACH;FMTTYPE=image/png:https://socalaggies.org/wp-content/uploads/2023/08/Matchup_LSU.png
ORGANIZER;CN="SoCal Aggies":MAILTO:socalaggies@gmail.com
END:VEVENT
END:VCALENDAR