BEGIN:VCALENDAR
VERSION:2.0
PRODID:-//SoCal Aggies - ECPv6.15.17.1//NONSGML v1.0//EN
CALSCALE:GREGORIAN
METHOD:PUBLISH
X-ORIGINAL-URL:https://socalaggies.org
X-WR-CALDESC:Events for SoCal Aggies
REFRESH-INTERVAL;VALUE=DURATION:PT1H
X-Robots-Tag:noindex
X-PUBLISHED-TTL:PT1H
BEGIN:VTIMEZONE
TZID:America/Los_Angeles
BEGIN:DAYLIGHT
TZOFFSETFROM:-0800
TZOFFSETTO:-0700
TZNAME:PDT
DTSTART:20230312T100000
END:DAYLIGHT
BEGIN:STANDARD
TZOFFSETFROM:-0700
TZOFFSETTO:-0800
TZNAME:PST
DTSTART:20231105T090000
END:STANDARD
BEGIN:DAYLIGHT
TZOFFSETFROM:-0800
TZOFFSETTO:-0700
TZNAME:PDT
DTSTART:20240310T100000
END:DAYLIGHT
BEGIN:STANDARD
TZOFFSETFROM:-0700
TZOFFSETTO:-0800
TZNAME:PST
DTSTART:20241103T090000
END:STANDARD
BEGIN:DAYLIGHT
TZOFFSETFROM:-0800
TZOFFSETTO:-0700
TZNAME:PDT
DTSTART:20250309T100000
END:DAYLIGHT
BEGIN:STANDARD
TZOFFSETFROM:-0700
TZOFFSETTO:-0800
TZNAME:PST
DTSTART:20251102T090000
END:STANDARD
END:VTIMEZONE
BEGIN:VEVENT
DTSTART;TZID=America/Los_Angeles:20240817T110000
DTEND;TZID=America/Los_Angeles:20240817T200000
DTSTAMP:20260419T102554
CREATED:20240430T232408Z
LAST-MODIFIED:20240731T231031Z
UID:1776-1723892400-1723924800@socalaggies.org
SUMMARY:Annual Beach Bonfire
DESCRIPTION:The annual SoCal Aggies Beach Bonfire is back on Saturday\, August 17th! \n⠀\nWHAT TO BRING:\nThe club will be grilling up hamburgers/hotdogs\, but bringing drinks\, side dishes\, and desserts is much appreciated! Beach games\, footballs\, canopies\, chairs\, coolers\, etc. are always helpful too! Please note that California State Beaches do not allow alcohol or glass containers.\n⠀\nWHERE TO MEET:\nWe will be at the Newland Ramadas at Huntington State Beach on Saturday\, August 17th. This is the same location as last year! We will begin setting up around 11am and be there until after sunset.\n⠀\nWHERE TO PARK:\nOur contact at CA State Parks has said that parking lots ($20) have been filling up in the early afternoon\, so carpooling\, arriving early\, and/or Ubering from a nearby location are all encouraged!\n⠀\nIn past years we’ve had trouble accessing the lots from the south (no left turns) and from across the highway\, so I would suggest you take the Pacific Coast Highway from north of our location (heading south) as shown on the map below to more easily join the traffic pattern that is turning right into the parking lots. Please note: the Newland St entrance is closed. Use the Beach Blvd entrance and drive through the parking lot towards the Newland Picnic Area A. The parking lots are all connected once you’re inside.\n⠀\n\nBeach Blvd Entrance\nGoogle Maps  |  Apple Maps\n\nBonfire Location: Newland Picnic Area A\nGoogle Maps  |  Apple Maps\n\n\n\n\n\n \n 
URL:https://socalaggies.org/event/annual-beach-bonfire-2024/
LOCATION:CA
CATEGORIES:Social
ATTACH;FMTTYPE=image/png:https://socalaggies.org/wp-content/uploads/2024/04/2024-Beach-Bonfire-web.png
ORGANIZER;CN="SoCal Aggies":MAILTO:socalaggies@gmail.com
END:VEVENT
BEGIN:VEVENT
DTSTART;TZID=America/Los_Angeles:20240831T163000
DTEND;TZID=America/Los_Angeles:20240831T193000
DTSTAMP:20260419T102554
CREATED:20240827T201143Z
LAST-MODIFIED:20240827T204704Z
UID:1783-1725121800-1725132600@socalaggies.org
SUMMARY:Texas A&M v. Notre Dame – Long Beach Game Watch
DESCRIPTION:Texas A&M v. Notre Dame – Long Beach Game Watch
URL:https://socalaggies.org/event/2024-week-01/
LOCATION:Panama Joe’s\, 5100 Second Street\, Long Beach\, CA\, 90803\, United States
CATEGORIES:Game Watch
ATTACH;FMTTYPE=image/png:https://socalaggies.org/wp-content/uploads/2024/08/Matchup_01_NotreDame.png
ORGANIZER;CN="SoCal Aggies":MAILTO:socalaggies@gmail.com
END:VEVENT
END:VCALENDAR